BEGIN:VCALENDAR
VERSION:2.0
PRODID:-//Professional Organizers in Canada - ECPv6.15.20//NONSGML v1.0//EN
CALSCALE:GREGORIAN
METHOD:PUBLISH
X-WR-CALNAME:Professional Organizers in Canada
X-ORIGINAL-URL:https://organizersincanada.com
X-WR-CALDESC:Events for Professional Organizers in Canada
REFRESH-INTERVAL;VALUE=DURATION:PT1H
X-Robots-Tag:noindex
X-PUBLISHED-TTL:PT1H
BEGIN:VTIMEZONE
TZID:America/Toronto
BEGIN:DAYLIGHT
TZOFFSETFROM:-0500
TZOFFSETTO:-0400
TZNAME:EDT
DTSTART:20200308T070000
END:DAYLIGHT
BEGIN:STANDARD
TZOFFSETFROM:-0400
TZOFFSETTO:-0500
TZNAME:EST
DTSTART:20201101T060000
END:STANDARD
BEGIN:DAYLIGHT
TZOFFSETFROM:-0500
TZOFFSETTO:-0400
TZNAME:EDT
DTSTART:20210314T070000
END:DAYLIGHT
BEGIN:STANDARD
TZOFFSETFROM:-0400
TZOFFSETTO:-0500
TZNAME:EST
DTSTART:20211107T060000
END:STANDARD
BEGIN:DAYLIGHT
TZOFFSETFROM:-0500
TZOFFSETTO:-0400
TZNAME:EDT
DTSTART:20220313T070000
END:DAYLIGHT
BEGIN:STANDARD
TZOFFSETFROM:-0400
TZOFFSETTO:-0500
TZNAME:EST
DTSTART:20221106T060000
END:STANDARD
BEGIN:DAYLIGHT
TZOFFSETFROM:-0500
TZOFFSETTO:-0400
TZNAME:EDT
DTSTART:20230312T070000
END:DAYLIGHT
BEGIN:STANDARD
TZOFFSETFROM:-0400
TZOFFSETTO:-0500
TZNAME:EST
DTSTART:20231105T060000
END:STANDARD
BEGIN:DAYLIGHT
TZOFFSETFROM:-0500
TZOFFSETTO:-0400
TZNAME:EDT
DTSTART:20240310T070000
END:DAYLIGHT
BEGIN:STANDARD
TZOFFSETFROM:-0400
TZOFFSETTO:-0500
TZNAME:EST
DTSTART:20241103T060000
END:STANDARD
BEGIN:DAYLIGHT
TZOFFSETFROM:-0500
TZOFFSETTO:-0400
TZNAME:EDT
DTSTART:20250309T070000
END:DAYLIGHT
BEGIN:STANDARD
TZOFFSETFROM:-0400
TZOFFSETTO:-0500
TZNAME:EST
DTSTART:20251102T060000
END:STANDARD
BEGIN:DAYLIGHT
TZOFFSETFROM:-0500
TZOFFSETTO:-0400
TZNAME:EDT
DTSTART:20260308T070000
END:DAYLIGHT
BEGIN:STANDARD
TZOFFSETFROM:-0400
TZOFFSETTO:-0500
TZNAME:EST
DTSTART:20261101T060000
END:STANDARD
BEGIN:DAYLIGHT
TZOFFSETFROM:-0500
TZOFFSETTO:-0400
TZNAME:EDT
DTSTART:20270314T070000
END:DAYLIGHT
BEGIN:STANDARD
TZOFFSETFROM:-0400
TZOFFSETTO:-0500
TZNAME:EST
DTSTART:20271107T060000
END:STANDARD
END:VTIMEZONE
BEGIN:VEVENT
DTSTART;TZID=America/Toronto:20260408T120000
DTEND;TZID=America/Toronto:20260415T120000
DTSTAMP:20260420T084828
CREATED:20251114T153937Z
LAST-MODIFIED:20260126T183845Z
UID:24117-1775649600-1776254400@organizersincanada.com
SUMMARY:TPO Exam - April 8-15
DESCRIPTION:
URL:https://organizersincanada.com/event/tpo-exam-april-8-15/
LOCATION:Virtual
CATEGORIES:TPO Exams
END:VEVENT
BEGIN:VEVENT
DTSTART;TZID=America/Toronto:20260311T120000
DTEND;TZID=America/Toronto:20260318T120000
DTSTAMP:20260420T084828
CREATED:20251114T153652Z
LAST-MODIFIED:20260126T183925Z
UID:24113-1773230400-1773835200@organizersincanada.com
SUMMARY:TPO Exam - March 11-18
DESCRIPTION:
URL:https://organizersincanada.com/event/tpo-exam-march-11-18/
LOCATION:Virtual
CATEGORIES:TPO Exams
END:VEVENT
BEGIN:VEVENT
DTSTART;TZID=America/Toronto:20260211T120000
DTEND;TZID=America/Toronto:20260218T120000
DTSTAMP:20260420T084828
CREATED:20251114T153411Z
LAST-MODIFIED:20260126T184011Z
UID:24109-1770811200-1771416000@organizersincanada.com
SUMMARY:TPO Exam - February 11-18
DESCRIPTION:
URL:https://organizersincanada.com/event/tpo-exam-february-11-18/
LOCATION:Virtual
CATEGORIES:TPO Exams
END:VEVENT
BEGIN:VEVENT
DTSTART;TZID=America/Toronto:20260114T120000
DTEND;TZID=America/Toronto:20260121T120000
DTSTAMP:20260420T084828
CREATED:20251114T153021Z
LAST-MODIFIED:20260126T184332Z
UID:24105-1768392000-1768996800@organizersincanada.com
SUMMARY:TPO Exam - January 14-21
DESCRIPTION:
URL:https://organizersincanada.com/event/tpo-exam-january-14-21/
LOCATION:Virtual
CATEGORIES:TPO Exams
END:VEVENT
BEGIN:VEVENT
DTSTART;TZID=America/Toronto:20251112T120000
DTEND;TZID=America/Toronto:20251119T120000
DTSTAMP:20260420T084828
CREATED:20250814T155141Z
LAST-MODIFIED:20250814T155424Z
UID:23544-1762948800-1763553600@organizersincanada.com
SUMMARY:TPO Exam - November 12-19 2025
DESCRIPTION:
URL:https://organizersincanada.com/event/tpo-exam-november-12-19-2025/
LOCATION:Virtual
CATEGORIES:TPO Exams
END:VEVENT
BEGIN:VEVENT
DTSTART;TZID=America/Toronto:20251015T120000
DTEND;TZID=America/Toronto:20251022T120000
DTSTAMP:20260420T084828
CREATED:20250814T154402Z
LAST-MODIFIED:20250814T154439Z
UID:23540-1760529600-1761134400@organizersincanada.com
SUMMARY:TPO Exam - October 15-22 2025
DESCRIPTION:
URL:https://organizersincanada.com/event/tpo-exam-october-15-22-2025/
LOCATION:Virtual
CATEGORIES:TPO Exams
END:VEVENT
BEGIN:VEVENT
DTSTART;TZID=America/Toronto:20250917T120000
DTEND;TZID=America/Toronto:20250924T120000
DTSTAMP:20260420T084828
CREATED:20250723T185019Z
LAST-MODIFIED:20250728T180651Z
UID:23405-1758110400-1758715200@organizersincanada.com
SUMMARY:TPO Exam - September 17-24 2025
DESCRIPTION:
URL:https://organizersincanada.com/event/tpo-exam-sept-2025/
CATEGORIES:TPO Exams
END:VEVENT
BEGIN:VEVENT
DTSTART;TZID=America/Toronto:20250813T120000
DTEND;TZID=America/Toronto:20250820T120000
DTSTAMP:20260420T084828
CREATED:20250730T170923Z
LAST-MODIFIED:20250812T193054Z
UID:23453-1755086400-1755691200@organizersincanada.com
SUMMARY:TPO Exam - August 13 - 20th
DESCRIPTION:Content is protected.
URL:https://organizersincanada.com/event/tpo-exam-august-13-20-2025/
CATEGORIES:TPO Exams
END:VEVENT
BEGIN:VEVENT
DTSTART;TZID=America/Toronto:20250611T130000
DTEND;TZID=America/Toronto:20250611T140000
DTSTAMP:20260420T084828
CREATED:20240226T210754Z
LAST-MODIFIED:20241111T201516Z
UID:17802-1749646800-1749650400@organizersincanada.com
SUMMARY:TPO Exam - June 2025
DESCRIPTION:
URL:https://organizersincanada.com/event/tpo-exam-june-2025/
CATEGORIES:TPO Exams
END:VEVENT
BEGIN:VEVENT
DTSTART;TZID=America/Toronto:20250527T200000
DTEND;TZID=America/Toronto:20250527T203000
DTSTAMP:20260420T084828
CREATED:20241118T185814Z
LAST-MODIFIED:20241118T190140Z
UID:20797-1748376000-1748377800@organizersincanada.com
SUMMARY:Jun 2025 TPO Exam Q&A Zoom Session
DESCRIPTION:
URL:https://organizersincanada.com/event/jun-2025-tpo-exam-qa-zoom-session/
CATEGORIES:TPO Exams
END:VEVENT
BEGIN:VEVENT
DTSTART;TZID=America/Toronto:20241010T130000
DTEND;TZID=America/Toronto:20241010T140000
DTSTAMP:20260420T084828
CREATED:20240906T210943Z
LAST-MODIFIED:20240906T210943Z
UID:19737-1728565200-1728568800@organizersincanada.com
SUMMARY:TPO Exam - October 2024
DESCRIPTION:
URL:https://organizersincanada.com/event/tpo-exam-october-2024/
CATEGORIES:TPO Exams
END:VEVENT
BEGIN:VEVENT
DTSTART;TZID=America/Toronto:20240925T200000
DTEND;TZID=America/Toronto:20240925T210000
DTSTAMP:20260420T084828
CREATED:20240906T204442Z
LAST-MODIFIED:20240924T193943Z
UID:19733-1727294400-1727298000@organizersincanada.com
SUMMARY:Oct 2024 TPO Exam Q&A Zoom Session
DESCRIPTION:
URL:https://organizersincanada.com/event/oct-2024-tpo-exam-qa-zoom-session/
CATEGORIES:TPO Exams
END:VEVENT
BEGIN:VEVENT
DTSTART;TZID=America/Toronto:20240604T200000
DTEND;TZID=America/Toronto:20240604T210000
DTSTAMP:20260420T084828
CREATED:20240321T193828Z
LAST-MODIFIED:20240321T193828Z
UID:18096-1717531200-1717534800@organizersincanada.com
SUMMARY:Jun 2024 TPO Exam Q&A Zoom Session
DESCRIPTION:
URL:https://organizersincanada.com/event/jun-2024-tpo-exam-qa-zoom-session/
CATEGORIES:TPO Exams
END:VEVENT
BEGIN:VEVENT
DTSTART;TZID=America/Toronto:20231025T120000
DTEND;TZID=America/Toronto:20231025T130000
DTSTAMP:20260420T084828
CREATED:20230720T194943Z
LAST-MODIFIED:20231025T121327Z
UID:15369-1698235200-1698238800@organizersincanada.com
SUMMARY:TPO Exam - Oct 2023
DESCRIPTION:
URL:https://organizersincanada.com/event/tpo-exam-oct-2023/
CATEGORIES:TPO Exams
END:VEVENT
BEGIN:VEVENT
DTSTART;TZID=America/Toronto:20231003T200000
DTEND;TZID=America/Toronto:20231003T210000
DTSTAMP:20260420T084828
CREATED:20230914T172403Z
LAST-MODIFIED:20230914T172713Z
UID:15923-1696363200-1696366800@organizersincanada.com
SUMMARY:Oct 2023 TPO Exam Q&A Zoom Session
DESCRIPTION:
URL:https://organizersincanada.com/event/oct-2023-tpo-exam-qa-zoom-session/
CATEGORIES:TPO Exams
END:VEVENT
BEGIN:VEVENT
DTSTART;TZID=America/Toronto:20230613T130000
DTEND;TZID=America/Toronto:20230613T140000
DTSTAMP:20260420T084828
CREATED:20230213T191400Z
LAST-MODIFIED:20230528T214819Z
UID:13834-1686661200-1686664800@organizersincanada.com
SUMMARY:TPO Exam - June 2023
DESCRIPTION:
URL:https://organizersincanada.com/event/tpo-exam-june-2023/
CATEGORIES:TPO Exams
END:VEVENT
BEGIN:VEVENT
DTSTART;TZID=America/Toronto:20230531T200000
DTEND;TZID=America/Toronto:20230531T210000
DTSTAMP:20260420T084828
CREATED:20230416T204255Z
LAST-MODIFIED:20230427T183456Z
UID:14402-1685563200-1685566800@organizersincanada.com
SUMMARY:Jun 2023 TPO Exam Q&A Zoom Session
DESCRIPTION:
URL:https://organizersincanada.com/event/jun-2023-tpo-exam-qa-zoom-session/
CATEGORIES:TPO Exams
END:VEVENT
BEGIN:VEVENT
DTSTART;TZID=America/Toronto:20221026T120000
DTEND;TZID=America/Toronto:20221026T130000
DTSTAMP:20260420T084828
CREATED:20220718T202847Z
LAST-MODIFIED:20220718T202847Z
UID:11533-1666785600-1666789200@organizersincanada.com
SUMMARY:TPO Exam - October 2022
DESCRIPTION:
URL:https://organizersincanada.com/event/tpo-exam-october-2022/
CATEGORIES:TPO Exams
END:VEVENT
BEGIN:VEVENT
DTSTART;TZID=America/Toronto:20221003T200000
DTEND;TZID=America/Toronto:20221003T210000
DTSTAMP:20260420T084828
CREATED:20220916T175722Z
LAST-MODIFIED:20220916T175920Z
UID:12334-1664827200-1664830800@organizersincanada.com
SUMMARY:Oct 2022 TPO Exam Q&A Zoom Session
DESCRIPTION:
URL:https://organizersincanada.com/event/oct-2022-tpo-exam-qa-zoom-session/
CATEGORIES:TPO Exams
END:VEVENT
BEGIN:VEVENT
DTSTART;TZID=America/Toronto:20220615T130000
DTEND;TZID=America/Toronto:20220615T140000
DTSTAMP:20260420T084828
CREATED:20220311T163717Z
LAST-MODIFIED:20220406T145721Z
UID:10243-1655298000-1655301600@organizersincanada.com
SUMMARY:TPO Exam - June 2022
DESCRIPTION:
URL:https://organizersincanada.com/event/tpo-exam-june-2022/
CATEGORIES:TPO Exams
END:VEVENT
BEGIN:VEVENT
DTSTART;TZID=America/Toronto:20220602T200000
DTEND;TZID=America/Toronto:20220602T210000
DTSTAMP:20260420T084828
CREATED:20220512T201800Z
LAST-MODIFIED:20220516T204355Z
UID:10903-1654200000-1654203600@organizersincanada.com
SUMMARY:TPO Exam Q&A Zoom Session
DESCRIPTION:
URL:https://organizersincanada.com/event/tpo-exam-qa-zoom-session/
CATEGORIES:TPO Exams
END:VEVENT
BEGIN:VEVENT
DTSTART;TZID=America/Toronto:20211020T120000
DTEND;TZID=America/Toronto:20211020T130000
DTSTAMP:20260420T084829
CREATED:20210713T175125Z
LAST-MODIFIED:20210823T224804Z
UID:6771-1634731200-1634734800@organizersincanada.com
SUMMARY:TPO Exam - Oct 2021
DESCRIPTION:
URL:https://organizersincanada.com/event/tpo-exam-oct-2021/
CATEGORIES:TPO Exams
END:VEVENT
BEGIN:VEVENT
DTSTART;TZID=America/Toronto:20210617T130000
DTEND;TZID=America/Toronto:20210617T140000
DTSTAMP:20260420T084829
CREATED:20210506T173023Z
LAST-MODIFIED:20210613T180206Z
UID:6005-1623934800-1623938400@organizersincanada.com
SUMMARY:TPO Exam
DESCRIPTION:
URL:https://organizersincanada.com/event/tpo-exam/
CATEGORIES:TPO Exams
END:VEVENT
END:VCALENDAR