BEGIN:VCALENDAR
VERSION:2.0
PRODID:-//Professional Organizers in Canada - ECPv6.15.20//NONSGML v1.0//EN
CALSCALE:GREGORIAN
METHOD:PUBLISH
X-WR-CALNAME:Professional Organizers in Canada
X-ORIGINAL-URL:https://organizersincanada.com
X-WR-CALDESC:Events for Professional Organizers in Canada
REFRESH-INTERVAL;VALUE=DURATION:PT1H
X-Robots-Tag:noindex
X-PUBLISHED-TTL:PT1H
BEGIN:VTIMEZONE
TZID:America/Toronto
BEGIN:DAYLIGHT
TZOFFSETFROM:-0500
TZOFFSETTO:-0400
TZNAME:EDT
DTSTART:20250309T070000
END:DAYLIGHT
BEGIN:STANDARD
TZOFFSETFROM:-0400
TZOFFSETTO:-0500
TZNAME:EST
DTSTART:20251102T060000
END:STANDARD
BEGIN:DAYLIGHT
TZOFFSETFROM:-0500
TZOFFSETTO:-0400
TZNAME:EDT
DTSTART:20260308T070000
END:DAYLIGHT
BEGIN:STANDARD
TZOFFSETFROM:-0400
TZOFFSETTO:-0500
TZNAME:EST
DTSTART:20261101T060000
END:STANDARD
BEGIN:DAYLIGHT
TZOFFSETFROM:-0500
TZOFFSETTO:-0400
TZNAME:EDT
DTSTART:20270314T070000
END:DAYLIGHT
BEGIN:STANDARD
TZOFFSETFROM:-0400
TZOFFSETTO:-0500
TZNAME:EST
DTSTART:20271107T060000
END:STANDARD
END:VTIMEZONE
BEGIN:VEVENT
DTSTART;TZID=America/Toronto:20260513T120000
DTEND;TZID=America/Toronto:20260520T120000
DTSTAMP:20260420T084607
CREATED:20251114T154251Z
LAST-MODIFIED:20260126T183719Z
UID:24121-1778673600-1779278400@organizersincanada.com
SUMMARY:TPO Exam - May 13-20
DESCRIPTION:
URL:https://organizersincanada.com/event/tpo-exam-may-13-20/
LOCATION:Virtual
CATEGORIES:TPO Exams
END:VEVENT
BEGIN:VEVENT
DTSTART;TZID=America/Toronto:20260610T120000
DTEND;TZID=America/Toronto:20260617T120000
DTSTAMP:20260420T084607
CREATED:20251114T154632Z
LAST-MODIFIED:20260126T182726Z
UID:24125-1781092800-1781697600@organizersincanada.com
SUMMARY:TPO Exam - June 10-17
DESCRIPTION:
URL:https://organizersincanada.com/event/tpo-exam-june-10-17/
LOCATION:Virtual
CATEGORIES:TPO Exams
END:VEVENT
BEGIN:VEVENT
DTSTART;TZID=America/Toronto:20260708T120000
DTEND;TZID=America/Toronto:20260715T120000
DTSTAMP:20260420T084607
CREATED:20260401T232246Z
LAST-MODIFIED:20260401T232246Z
UID:25831-1783512000-1784116800@organizersincanada.com
SUMMARY:TPO Exam - July 8 - 15
DESCRIPTION:
URL:https://organizersincanada.com/event/tpo-exam-july-8-15/
LOCATION:Virtual
CATEGORIES:TPO Exams
END:VEVENT
BEGIN:VEVENT
DTSTART;TZID=America/Toronto:20260812T120000
DTEND;TZID=America/Toronto:20260819T120000
DTSTAMP:20260420T084607
CREATED:20260406T194716Z
LAST-MODIFIED:20260406T194716Z
UID:25963-1786536000-1787140800@organizersincanada.com
SUMMARY:TPO Exam - August 12-19
DESCRIPTION:
URL:https://organizersincanada.com/event/tpo-exam-august-12-19/
LOCATION:Virtual
CATEGORIES:TPO Exams
END:VEVENT
BEGIN:VEVENT
DTSTART;TZID=America/Toronto:20260909T120000
DTEND;TZID=America/Toronto:20260916T120000
DTSTAMP:20260420T084607
CREATED:20260419T172559Z
LAST-MODIFIED:20260419T172559Z
UID:26038-1788955200-1789560000@organizersincanada.com
SUMMARY:TPO Exam - September 9-16
DESCRIPTION:
URL:https://organizersincanada.com/event/tpo-exam-september-9-16/
LOCATION:Virtual
CATEGORIES:TPO Exams
END:VEVENT
BEGIN:VEVENT
DTSTART;TZID=America/Toronto:20261014T120000
DTEND;TZID=America/Toronto:20261021T120000
DTSTAMP:20260420T084607
CREATED:20260419T173140Z
LAST-MODIFIED:20260419T173140Z
UID:26042-1791979200-1792584000@organizersincanada.com
SUMMARY:TPO Exam - October 14-21
DESCRIPTION:
URL:https://organizersincanada.com/event/tpo-exam-october-14-21/
LOCATION:Virtual
CATEGORIES:TPO Exams
END:VEVENT
BEGIN:VEVENT
DTSTART;TZID=America/Toronto:20261111T120000
DTEND;TZID=America/Toronto:20261118T120000
DTSTAMP:20260420T084607
CREATED:20260419T173529Z
LAST-MODIFIED:20260419T173529Z
UID:26046-1794398400-1795003200@organizersincanada.com
SUMMARY:TPO Exam - November 11-18
DESCRIPTION:
URL:https://organizersincanada.com/event/tpo-exam-november-11-18/
LOCATION:Virtual
CATEGORIES:TPO Exams
END:VEVENT
BEGIN:VEVENT
DTSTART;TZID=America/Toronto:20261209T120000
DTEND;TZID=America/Toronto:20261216T120000
DTSTAMP:20260420T084607
CREATED:20260419T175246Z
LAST-MODIFIED:20260419T175246Z
UID:26050-1796817600-1797422400@organizersincanada.com
SUMMARY:TPO Exam - December 9-16
DESCRIPTION:
URL:https://organizersincanada.com/event/tpo-exam-december-9-16/
LOCATION:Virtual
CATEGORIES:TPO Exams
END:VEVENT
END:VCALENDAR