BEGIN:VCALENDAR
VERSION:2.0
PRODID:-//Professional Organizers in Canada - ECPv6.15.20//NONSGML v1.0//EN
CALSCALE:GREGORIAN
METHOD:PUBLISH
X-WR-CALNAME:Professional Organizers in Canada
X-ORIGINAL-URL:https://organizersincanada.com
X-WR-CALDESC:Events for Professional Organizers in Canada
REFRESH-INTERVAL;VALUE=DURATION:PT1H
X-Robots-Tag:noindex
X-PUBLISHED-TTL:PT1H
BEGIN:VTIMEZONE
TZID:America/Toronto
BEGIN:DAYLIGHT
TZOFFSETFROM:-0500
TZOFFSETTO:-0400
TZNAME:EDT
DTSTART:20230312T070000
END:DAYLIGHT
BEGIN:STANDARD
TZOFFSETFROM:-0400
TZOFFSETTO:-0500
TZNAME:EST
DTSTART:20231105T060000
END:STANDARD
BEGIN:DAYLIGHT
TZOFFSETFROM:-0500
TZOFFSETTO:-0400
TZNAME:EDT
DTSTART:20240310T070000
END:DAYLIGHT
BEGIN:STANDARD
TZOFFSETFROM:-0400
TZOFFSETTO:-0500
TZNAME:EST
DTSTART:20241103T060000
END:STANDARD
BEGIN:DAYLIGHT
TZOFFSETFROM:-0500
TZOFFSETTO:-0400
TZNAME:EDT
DTSTART:20250309T070000
END:DAYLIGHT
BEGIN:STANDARD
TZOFFSETFROM:-0400
TZOFFSETTO:-0500
TZNAME:EST
DTSTART:20251102T060000
END:STANDARD
BEGIN:DAYLIGHT
TZOFFSETFROM:-0500
TZOFFSETTO:-0400
TZNAME:EDT
DTSTART:20260308T070000
END:DAYLIGHT
BEGIN:STANDARD
TZOFFSETFROM:-0400
TZOFFSETTO:-0500
TZNAME:EST
DTSTART:20261101T060000
END:STANDARD
BEGIN:DAYLIGHT
TZOFFSETFROM:-0500
TZOFFSETTO:-0400
TZNAME:EDT
DTSTART:20270314T070000
END:DAYLIGHT
BEGIN:STANDARD
TZOFFSETFROM:-0400
TZOFFSETTO:-0500
TZNAME:EST
DTSTART:20271107T060000
END:STANDARD
END:VTIMEZONE
BEGIN:VEVENT
DTSTART;TZID=America/Toronto:20260312T090000
DTEND;TZID=America/Toronto:20260312T103000
DTSTAMP:20260422T141022
CREATED:20260202T224440Z
LAST-MODIFIED:20260202T224702Z
UID:24883-1773306000-1773311400@organizersincanada.com
SUMMARY:Client Journey Mapping: From First Brand Contact to Client Referrals Session 1
DESCRIPTION:
URL:https://organizersincanada.com/event/client-journey-mapping-from-first-brand-contact-to-client-referrals-session-1/
CATEGORIES:Webinar
END:VEVENT
BEGIN:VEVENT
DTSTART;TZID=America/Toronto:20260129T200000
DTEND;TZID=America/Toronto:20260129T210000
DTSTAMP:20260422T141022
CREATED:20260120T184919Z
LAST-MODIFIED:20260120T184919Z
UID:24672-1769716800-1769720400@organizersincanada.com
SUMMARY:90-Day Planning & Accountability Workshops: Session 1
DESCRIPTION:
URL:https://organizersincanada.com/event/90-day-planning-workshop-1/
LOCATION:Virtual
CATEGORIES:Webinar
END:VEVENT
BEGIN:VEVENT
DTSTART;TZID=America/Toronto:20251209T190000
DTEND;TZID=America/Toronto:20251209T203000
DTSTAMP:20260422T141022
CREATED:20251110T183140Z
LAST-MODIFIED:20251111T214928Z
UID:23987-1765306800-1765312200@organizersincanada.com
SUMMARY:2026 POC Planning Roadmap Workshop
DESCRIPTION:
URL:https://organizersincanada.com/event/2026-poc-planning-roadmap-workshop/
LOCATION:Virtual
CATEGORIES:Webinar
END:VEVENT
BEGIN:VEVENT
DTSTART;TZID=America/Toronto:20250723T180000
DTEND;TZID=America/Toronto:20250723T190000
DTSTAMP:20260422T141022
CREATED:20250626T155401Z
LAST-MODIFIED:20250723T191705Z
UID:23250-1753293600-1753297200@organizersincanada.com
SUMMARY:Townhall - Ask us anything!
DESCRIPTION:
URL:https://organizersincanada.com/event/townhall-ask-us-anything/
LOCATION:Virtual
CATEGORIES:Webinar
END:VEVENT
BEGIN:VEVENT
DTSTART;TZID=America/Toronto:20250626T120000
DTEND;TZID=America/Toronto:20250626T140000
DTSTAMP:20260422T141022
CREATED:20250530T183724Z
LAST-MODIFIED:20250612T003616Z
UID:23011-1750939200-1750946400@organizersincanada.com
SUMMARY:PD Day: Is Scaling the Right Move for Your Organizing Business
DESCRIPTION:
URL:https://organizersincanada.com/event/pd-day-is-scaling-the-right-move-for-your-organizing-business/
LOCATION:Virtual
CATEGORIES:Webinar
END:VEVENT
BEGIN:VEVENT
DTSTART;TZID=America/Toronto:20250109T200000
DTEND;TZID=America/Toronto:20250109T203000
DTSTAMP:20260422T141022
CREATED:20241002T205543Z
LAST-MODIFIED:20241106T153441Z
UID:20235-1736452800-1736454600@organizersincanada.com
SUMMARY:Webinar 25: Discover More About POC - How far we’ve come and have some fun!
DESCRIPTION:
URL:https://organizersincanada.com/event/webinar-25-spotlight-on-the-varied-actual-and-past-committees-and-the-members-who-compose-them/
CATEGORIES:Webinar
END:VEVENT
BEGIN:VEVENT
DTSTART;TZID=America/Toronto:20241219T200000
DTEND;TZID=America/Toronto:20241219T203000
DTSTAMP:20260422T141022
CREATED:20241002T204656Z
LAST-MODIFIED:20250415T171256Z
UID:20229-1734638400-1734640200@organizersincanada.com
SUMMARY:Webinar 24: Comment se lancer dans l’écriture d’un livre numérique / How to Get Started Writing an eBook
DESCRIPTION:
URL:https://organizersincanada.com/event/webinar-24-comment-se-lancer-dans-lecriture-dun-livre-numerique-how-to-get-started-writing-an-ebook/
CATEGORIES:Webinar
END:VEVENT
BEGIN:VEVENT
DTSTART;TZID=America/Toronto:20241204T200000
DTEND;TZID=America/Toronto:20241204T203000
DTSTAMP:20260422T141022
CREATED:20241002T203440Z
LAST-MODIFIED:20241002T203440Z
UID:20223-1733342400-1733344200@organizersincanada.com
SUMMARY:Webinar 23: POC’s History and the People Who Shaped It
DESCRIPTION:
URL:https://organizersincanada.com/event/webinar-23-pocs-history-and-the-people-who-shaped-it/
CATEGORIES:Webinar
END:VEVENT
BEGIN:VEVENT
DTSTART;TZID=America/Toronto:20241125T200000
DTEND;TZID=America/Toronto:20241125T203000
DTSTAMP:20260422T141023
CREATED:20241029T040027Z
LAST-MODIFIED:20241104T175117Z
UID:20474-1732564800-1732566600@organizersincanada.com
SUMMARY:P4: Party With The Pros: Appreciation Martinis
DESCRIPTION:
URL:https://organizersincanada.com/event/p4-party-with-the-pros-appreciation-martinis/
CATEGORIES:Webinar
END:VEVENT
BEGIN:VEVENT
DTSTART;TZID=America/Toronto:20241121T200000
DTEND;TZID=America/Toronto:20241121T203000
DTSTAMP:20260422T141023
CREATED:20241002T201306Z
LAST-MODIFIED:20241002T201340Z
UID:20207-1732219200-1732221000@organizersincanada.com
SUMMARY:Webinar 22: Silver\, Gold and Platinum Leaf Recognition – How Do I Get There?
DESCRIPTION:
URL:https://organizersincanada.com/event/webinar-22-silver-gold-and-platinum-leaf-recognition-how-do-i-get-there/
CATEGORIES:Webinar
END:VEVENT
BEGIN:VEVENT
DTSTART;TZID=America/Toronto:20241107T200000
DTEND;TZID=America/Toronto:20241107T203000
DTSTAMP:20260422T141023
CREATED:20241002T195137Z
LAST-MODIFIED:20241002T195137Z
UID:20199-1731009600-1731011400@organizersincanada.com
SUMMARY:Webinar 21: Nuggets of Wisdom – What I Wish I had Known
DESCRIPTION:
URL:https://organizersincanada.com/event/webinar-21-nuggets-of-wisdom-what-i-wish-i-had-known/
CATEGORIES:Webinar
END:VEVENT
BEGIN:VEVENT
DTSTART;TZID=America/Toronto:20241017T200000
DTEND;TZID=America/Toronto:20241017T203000
DTSTAMP:20260422T141023
CREATED:20241002T191138Z
LAST-MODIFIED:20241002T194248Z
UID:20181-1729195200-1729197000@organizersincanada.com
SUMMARY:Webinar 20: The Unsung Heroes Who Make an Impact in People’s Lives
DESCRIPTION:
URL:https://organizersincanada.com/event/webinar-20-the-unsung-heroes-who-make-an-impact-in-peoples-lives/
CATEGORIES:Webinar
END:VEVENT
BEGIN:VEVENT
DTSTART;TZID=America/Toronto:20241003T200000
DTEND;TZID=America/Toronto:20241003T203000
DTSTAMP:20260422T141023
CREATED:20240619T010921Z
LAST-MODIFIED:20240619T010921Z
UID:19489-1727985600-1727987400@organizersincanada.com
SUMMARY:Webinar 19: Expand your network through Written Interviews
DESCRIPTION:
URL:https://organizersincanada.com/event/webinar-19-expand-your-network-through-written-interviews/
CATEGORIES:Webinar
END:VEVENT
BEGIN:VEVENT
DTSTART;TZID=America/Toronto:20240925T200000
DTEND;TZID=America/Toronto:20240925T203000
DTSTAMP:20260422T141023
CREATED:20240721T214314Z
LAST-MODIFIED:20240723T140649Z
UID:19703-1727294400-1727296200@organizersincanada.com
SUMMARY:P3: Party With The Pros: How Many Organizers Does It Take To …
DESCRIPTION:
URL:https://organizersincanada.com/event/p3-party-with-the-pros-how-many-organizers-does-it-take-to/
CATEGORIES:Webinar
END:VEVENT
BEGIN:VEVENT
DTSTART;TZID=America/Toronto:20240919T200000
DTEND;TZID=America/Toronto:20240919T203000
DTSTAMP:20260422T141023
CREATED:20240619T010252Z
LAST-MODIFIED:20240801T181647Z
UID:19481-1726776000-1726777800@organizersincanada.com
SUMMARY:Webinar 18: Expand your network through Volunteering in Your Community
DESCRIPTION:
URL:https://organizersincanada.com/event/webinar-18-expand-your-network-through-volunteering/
CATEGORIES:Webinar
END:VEVENT
BEGIN:VEVENT
DTSTART;TZID=America/Toronto:20240905T200000
DTEND;TZID=America/Toronto:20240905T203000
DTSTAMP:20260422T141023
CREATED:20240619T005410Z
LAST-MODIFIED:20240801T175315Z
UID:19473-1725566400-1725568200@organizersincanada.com
SUMMARY:Webinar 17: Expand your network through Podcasts
DESCRIPTION:
URL:https://organizersincanada.com/event/webinar-17-expand-your-network-through-podcasts/
CATEGORIES:Webinar
END:VEVENT
BEGIN:VEVENT
DTSTART;TZID=America/Toronto:20240822T200000
DTEND;TZID=America/Toronto:20240822T203000
DTSTAMP:20260422T141023
CREATED:20240619T003514Z
LAST-MODIFIED:20240819T204924Z
UID:19462-1724356800-1724358600@organizersincanada.com
SUMMARY:Webinar 16: Expand your network through Blogging
DESCRIPTION:
URL:https://organizersincanada.com/event/webinar-16-expand-your-network-through-blogging/
CATEGORIES:Webinar
END:VEVENT
BEGIN:VEVENT
DTSTART;TZID=America/Toronto:20240801T200000
DTEND;TZID=America/Toronto:20240801T203000
DTSTAMP:20260422T141023
CREATED:20240619T002041Z
LAST-MODIFIED:20240814T150749Z
UID:19451-1722542400-1722544200@organizersincanada.com
SUMMARY:Webinar 15: Expand your network through Networking with other Businesses
DESCRIPTION:
URL:https://organizersincanada.com/event/webinar-15-expand-your-network-through-networking-business/
CATEGORIES:Webinar
END:VEVENT
BEGIN:VEVENT
DTSTART;TZID=America/Toronto:20240718T200000
DTEND;TZID=America/Toronto:20240718T203000
DTSTAMP:20260422T141023
CREATED:20240618T210415Z
LAST-MODIFIED:20240618T230416Z
UID:19440-1721332800-1721334600@organizersincanada.com
SUMMARY:Webinar 14: Expand your network through Speaking Engagements
DESCRIPTION:
URL:https://organizersincanada.com/event/webinar-14-speaking-engagement/
CATEGORIES:Webinar
END:VEVENT
BEGIN:VEVENT
DTSTART;TZID=America/Toronto:20240704T200000
DTEND;TZID=America/Toronto:20240704T203000
DTSTAMP:20260422T141023
CREATED:20240412T013101Z
LAST-MODIFIED:20240412T013507Z
UID:18410-1720123200-1720125000@organizersincanada.com
SUMMARY:Webinar 13: Canva
DESCRIPTION:
URL:https://organizersincanada.com/event/webinar-13-canva/
CATEGORIES:Webinar
END:VEVENT
BEGIN:VEVENT
DTSTART;TZID=America/Toronto:20240620T200000
DTEND;TZID=America/Toronto:20240620T203000
DTSTAMP:20260422T141023
CREATED:20240412T010956Z
LAST-MODIFIED:20240412T011448Z
UID:18402-1718913600-1718915400@organizersincanada.com
SUMMARY:Webinar 12: Facebook
DESCRIPTION:
URL:https://organizersincanada.com/event/webinar-12-facebook/
CATEGORIES:Webinar
END:VEVENT
BEGIN:VEVENT
DTSTART;TZID=America/Toronto:20240606T200000
DTEND;TZID=America/Toronto:20240606T203000
DTSTAMP:20260422T141023
CREATED:20240412T005328Z
LAST-MODIFIED:20240412T010641Z
UID:18393-1717704000-1717705800@organizersincanada.com
SUMMARY:Webinar 11: LinkedIn
DESCRIPTION:
URL:https://organizersincanada.com/event/webinar-11-linkedin/
CATEGORIES:Webinar
END:VEVENT
BEGIN:VEVENT
DTSTART;TZID=America/Toronto:20240516T200000
DTEND;TZID=America/Toronto:20240516T203000
DTSTAMP:20260422T141023
CREATED:20240412T003331Z
LAST-MODIFIED:20240412T005153Z
UID:18387-1715889600-1715891400@organizersincanada.com
SUMMARY:Webinar 10: TikTok
DESCRIPTION:
URL:https://organizersincanada.com/event/webinar-10-tiktok/
CATEGORIES:Webinar
END:VEVENT
BEGIN:VEVENT
DTSTART;TZID=America/Toronto:20240502T200000
DTEND;TZID=America/Toronto:20240502T203000
DTSTAMP:20260422T141023
CREATED:20240405T145704Z
LAST-MODIFIED:20240405T150122Z
UID:18302-1714680000-1714681800@organizersincanada.com
SUMMARY:Webinar 9: YouTube
DESCRIPTION:
URL:https://organizersincanada.com/event/webinar-9-youtube/
CATEGORIES:Webinar
END:VEVENT
BEGIN:VEVENT
DTSTART;TZID=America/Toronto:20240425T200000
DTEND;TZID=America/Toronto:20240425T203000
DTSTAMP:20260422T141023
CREATED:20240216T155631Z
LAST-MODIFIED:20240216T155804Z
UID:17619-1714075200-1714077000@organizersincanada.com
SUMMARY:P2: Party With The Pros: No I’m Not A …
DESCRIPTION:
URL:https://organizersincanada.com/event/p2-party-with-the-pros-no-i-m-not-a/
CATEGORIES:Webinar
END:VEVENT
BEGIN:VEVENT
DTSTART;TZID=America/Toronto:20240418T200000
DTEND;TZID=America/Toronto:20240418T203000
DTSTAMP:20260422T141023
CREATED:20240314T184826Z
LAST-MODIFIED:20240328T001105Z
UID:17966-1713470400-1713472200@organizersincanada.com
SUMMARY:Webinar 8: Instagram
DESCRIPTION:
URL:https://organizersincanada.com/event/webinar-8-instagram/
CATEGORIES:Webinar
END:VEVENT
BEGIN:VEVENT
DTSTART;TZID=America/Toronto:20240404T200000
DTEND;TZID=America/Toronto:20240404T203000
DTSTAMP:20260422T141023
CREATED:20240308T210223Z
LAST-MODIFIED:20240308T210223Z
UID:17921-1712260800-1712262600@organizersincanada.com
SUMMARY:Webinar 7: Reels
DESCRIPTION:
URL:https://organizersincanada.com/event/webinar-7-reels/
CATEGORIES:Webinar
END:VEVENT
BEGIN:VEVENT
DTSTART;TZID=America/Toronto:20240321T200000
DTEND;TZID=America/Toronto:20240321T203000
DTSTAMP:20260422T141023
CREATED:20231228T214513Z
LAST-MODIFIED:20240102T195721Z
UID:16758-1711051200-1711053000@organizersincanada.com
SUMMARY:Webinar 6: Behind the Scenes: Organizing on TV – Real Stories from the Set
DESCRIPTION:
URL:https://organizersincanada.com/event/webinar-behind-the-scenes-organizing-on-tv-real-stories-from-the-set/
CATEGORIES:Webinar
END:VEVENT
BEGIN:VEVENT
DTSTART;TZID=America/Toronto:20240307T200000
DTEND;TZID=America/Toronto:20240307T203000
DTSTAMP:20260422T141023
CREATED:20231228T211021Z
LAST-MODIFIED:20240301T191102Z
UID:16751-1709841600-1709843400@organizersincanada.com
SUMMARY:Webinar 5: Beyond the Spotlight: Elevating Your Impact After the Interview
DESCRIPTION:
URL:https://organizersincanada.com/event/webinar-beyond-the-spotlight-elevating-your-impact-after-the-interview/
CATEGORIES:Webinar
END:VEVENT
BEGIN:VEVENT
DTSTART;TZID=America/Toronto:20240215T200000
DTEND;TZID=America/Toronto:20240215T203000
DTSTAMP:20260422T141023
CREATED:20231228T191221Z
LAST-MODIFIED:20240102T195551Z
UID:16739-1708027200-1708029000@organizersincanada.com
SUMMARY:Webinar 4: Mastering the Art of On Camera Presence
DESCRIPTION:
URL:https://organizersincanada.com/event/webinar-mastering-the-art-of-on-camera-presence/
CATEGORIES:Webinar
END:VEVENT
END:VCALENDAR