BEGIN:VCALENDAR
VERSION:2.0
PRODID:-//Professional Organizers in Canada - ECPv6.15.20//NONSGML v1.0//EN
CALSCALE:GREGORIAN
METHOD:PUBLISH
X-WR-CALNAME:Professional Organizers in Canada
X-ORIGINAL-URL:https://organizersincanada.com
X-WR-CALDESC:Events for Professional Organizers in Canada
REFRESH-INTERVAL;VALUE=DURATION:PT1H
X-Robots-Tag:noindex
X-PUBLISHED-TTL:PT1H
BEGIN:VTIMEZONE
TZID:America/Toronto
BEGIN:DAYLIGHT
TZOFFSETFROM:-0500
TZOFFSETTO:-0400
TZNAME:EDT
DTSTART:20220313T070000
END:DAYLIGHT
BEGIN:STANDARD
TZOFFSETFROM:-0400
TZOFFSETTO:-0500
TZNAME:EST
DTSTART:20221106T060000
END:STANDARD
BEGIN:DAYLIGHT
TZOFFSETFROM:-0500
TZOFFSETTO:-0400
TZNAME:EDT
DTSTART:20230312T070000
END:DAYLIGHT
BEGIN:STANDARD
TZOFFSETFROM:-0400
TZOFFSETTO:-0500
TZNAME:EST
DTSTART:20231105T060000
END:STANDARD
BEGIN:DAYLIGHT
TZOFFSETFROM:-0500
TZOFFSETTO:-0400
TZNAME:EDT
DTSTART:20240310T070000
END:DAYLIGHT
BEGIN:STANDARD
TZOFFSETFROM:-0400
TZOFFSETTO:-0500
TZNAME:EST
DTSTART:20241103T060000
END:STANDARD
END:VTIMEZONE
BEGIN:VTIMEZONE
TZID:America/Vancouver
BEGIN:DAYLIGHT
TZOFFSETFROM:-0800
TZOFFSETTO:-0700
TZNAME:PDT
DTSTART:20220313T100000
END:DAYLIGHT
BEGIN:STANDARD
TZOFFSETFROM:-0700
TZOFFSETTO:-0800
TZNAME:PST
DTSTART:20221106T090000
END:STANDARD
BEGIN:DAYLIGHT
TZOFFSETFROM:-0800
TZOFFSETTO:-0700
TZNAME:PDT
DTSTART:20230312T100000
END:DAYLIGHT
BEGIN:STANDARD
TZOFFSETFROM:-0700
TZOFFSETTO:-0800
TZNAME:PST
DTSTART:20231105T090000
END:STANDARD
BEGIN:DAYLIGHT
TZOFFSETFROM:-0800
TZOFFSETTO:-0700
TZNAME:PDT
DTSTART:20240310T100000
END:DAYLIGHT
BEGIN:STANDARD
TZOFFSETFROM:-0700
TZOFFSETTO:-0800
TZNAME:PST
DTSTART:20241103T090000
END:STANDARD
END:VTIMEZONE
BEGIN:VTIMEZONE
TZID:America/Edmonton
BEGIN:DAYLIGHT
TZOFFSETFROM:-0700
TZOFFSETTO:-0600
TZNAME:MDT
DTSTART:20220313T090000
END:DAYLIGHT
BEGIN:STANDARD
TZOFFSETFROM:-0600
TZOFFSETTO:-0700
TZNAME:MST
DTSTART:20221106T080000
END:STANDARD
BEGIN:DAYLIGHT
TZOFFSETFROM:-0700
TZOFFSETTO:-0600
TZNAME:MDT
DTSTART:20230312T090000
END:DAYLIGHT
BEGIN:STANDARD
TZOFFSETFROM:-0600
TZOFFSETTO:-0700
TZNAME:MST
DTSTART:20231105T080000
END:STANDARD
BEGIN:DAYLIGHT
TZOFFSETFROM:-0700
TZOFFSETTO:-0600
TZNAME:MDT
DTSTART:20240310T090000
END:DAYLIGHT
BEGIN:STANDARD
TZOFFSETFROM:-0600
TZOFFSETTO:-0700
TZNAME:MST
DTSTART:20241103T080000
END:STANDARD
END:VTIMEZONE
BEGIN:VEVENT
DTSTART;TZID=America/Toronto:20230419T200000
DTEND;TZID=America/Toronto:20230419T210000
DTSTAMP:20260424T112944
CREATED:20230308T203551Z
LAST-MODIFIED:20230416T194531Z
UID:14082-1681934400-1681938000@organizersincanada.com
SUMMARY:Should I Become an Organizer?
DESCRIPTION:
URL:https://organizersincanada.com/event/should-i-become-an-organizer-4/
CATEGORIES:POC Other courses
END:VEVENT
BEGIN:VEVENT
DTSTART;TZID=America/Vancouver:20230418T180000
DTEND;TZID=America/Vancouver:20230418T200000
DTSTAMP:20260424T112944
CREATED:20230417T172006Z
LAST-MODIFIED:20230417T172006Z
UID:14413-1681840800-1681848000@organizersincanada.com
SUMMARY:BC Lower Mainland AGM/Chapter Meeting
DESCRIPTION:
URL:https://organizersincanada.com/event/bc-lower-mainland-agm-chapter-meeting/
CATEGORIES:Chapter Events
END:VEVENT
BEGIN:VEVENT
DTSTART;TZID=America/Toronto:20230417T180000
DTEND;TZID=America/Toronto:20230417T210000
DTSTAMP:20260424T112944
CREATED:20221003T231818Z
LAST-MODIFIED:20230403T184621Z
UID:12550-1681754400-1681765200@organizersincanada.com
SUMMARY:Toronto Chapter Spring Meeting
DESCRIPTION:
URL:https://organizersincanada.com/event/toronto-chapter-meeting-13/
CATEGORIES:Chapter Events
END:VEVENT
BEGIN:VEVENT
DTSTART;TZID=America/Edmonton:20230417T180000
DTEND;TZID=America/Edmonton:20230417T200000
DTSTAMP:20260424T112944
CREATED:20230302T222739Z
LAST-MODIFIED:20230326T184303Z
UID:14031-1681754400-1681761600@organizersincanada.com
SUMMARY:Edmonton Chapter Meeting
DESCRIPTION:
URL:https://organizersincanada.com/event/edmonton-chapter-meeting-14/
CATEGORIES:Chapter Events
END:VEVENT
BEGIN:VEVENT
DTSTART;TZID=America/Toronto:20230413T200000
DTEND;TZID=America/Toronto:20230413T210000
DTSTAMP:20260424T112944
CREATED:20230308T192741Z
LAST-MODIFIED:20230308T192741Z
UID:14073-1681416000-1681419600@organizersincanada.com
SUMMARY:Working with Seniors
DESCRIPTION:
URL:https://organizersincanada.com/event/working-with-seniors-2/
CATEGORIES:TPO Credit courses
END:VEVENT
BEGIN:VEVENT
DTSTART;TZID=America/Toronto:20230411T213000
DTEND;TZID=America/Toronto:20230411T223000
DTSTAMP:20260424T112944
CREATED:20230308T184805Z
LAST-MODIFIED:20230308T184805Z
UID:14067-1681248600-1681252200@organizersincanada.com
SUMMARY:Closet and Pantry Organizing
DESCRIPTION:
URL:https://organizersincanada.com/event/closet-and-pantry-organizing/
CATEGORIES:TPO Credit courses
END:VEVENT
BEGIN:VEVENT
DTSTART;TZID=America/Toronto:20230411T200000
DTEND;TZID=America/Toronto:20230411T210000
DTSTAMP:20260424T112944
CREATED:20230308T175356Z
LAST-MODIFIED:20230308T182452Z
UID:14062-1681243200-1681246800@organizersincanada.com
SUMMARY:Marketing and PR for Organizers
DESCRIPTION:
URL:https://organizersincanada.com/event/marketing-and-pr-for-organizers/
CATEGORIES:TPO Credit courses
END:VEVENT
BEGIN:VEVENT
DTSTART;TZID=America/Toronto:20230411T190000
DTEND;TZID=America/Toronto:20230411T210000
DTSTAMP:20260424T112944
CREATED:20230403T172306Z
LAST-MODIFIED:20230403T172306Z
UID:14311-1681239600-1681246800@organizersincanada.com
SUMMARY:Durham Chapter Meeting
DESCRIPTION:
URL:https://organizersincanada.com/event/durham-chapter-meeting-17/
CATEGORIES:Chapter Events
END:VEVENT
BEGIN:VEVENT
DTSTART;TZID=America/Toronto:20230411T190000
DTEND;TZID=America/Toronto:20230411T210000
DTSTAMP:20260424T112944
CREATED:20230403T141106Z
LAST-MODIFIED:20230403T141931Z
UID:14304-1681239600-1681246800@organizersincanada.com
SUMMARY:Montreal Chapter Meeting
DESCRIPTION:
URL:https://organizersincanada.com/event/montreal-chapter-meeting-4/
CATEGORIES:Chapter Events
END:VEVENT
BEGIN:VEVENT
DTSTART;TZID=America/Toronto:20230411T190000
DTEND;TZID=America/Toronto:20230411T210000
DTSTAMP:20260424T112944
CREATED:20221111T161040Z
LAST-MODIFIED:20221111T161040Z
UID:12908-1681239600-1681246800@organizersincanada.com
SUMMARY:Montreal Chapter Meeting / Réunion mensuelle
DESCRIPTION:
URL:https://organizersincanada.com/event/montreal-chapter-meeting-reunion-mensuelle-18/
CATEGORIES:Chapter Events
END:VEVENT
BEGIN:VEVENT
DTSTART;TZID=America/Toronto:20230411T190000
DTEND;TZID=America/Toronto:20230411T210000
DTSTAMP:20260424T112944
CREATED:20220817T175613Z
LAST-MODIFIED:20230403T175923Z
UID:11937-1681239600-1681246800@organizersincanada.com
SUMMARY:Halton-Peel Chapter Meeting
DESCRIPTION:
URL:https://organizersincanada.com/event/halton-peel-chapter-meeting-16/
CATEGORIES:Chapter Events
END:VEVENT
BEGIN:VEVENT
DTSTART;TZID=America/Toronto:20230328T200000
DTEND;TZID=America/Toronto:20230328T210000
DTSTAMP:20260424T112944
CREATED:20230111T160302Z
LAST-MODIFIED:20230111T160302Z
UID:13494-1680033600-1680037200@organizersincanada.com
SUMMARY:Cyber Chapter Meeting
DESCRIPTION:
URL:https://organizersincanada.com/event/cyber-chapter-meeting-18/
CATEGORIES:Chapter Events
END:VEVENT
BEGIN:VEVENT
DTSTART;TZID=America/Edmonton:20230322T180000
DTEND;TZID=America/Edmonton:20230322T193000
DTSTAMP:20260424T112944
CREATED:20230320T204431Z
LAST-MODIFIED:20230320T204431Z
UID:14215-1679508000-1679513400@organizersincanada.com
SUMMARY:Calgary Chapter Meeting
DESCRIPTION:
URL:https://organizersincanada.com/event/calgary-chapter-meeting-8/
CATEGORIES:Chapter Events
END:VEVENT
BEGIN:VEVENT
DTSTART;TZID=America/Toronto:20230321T200000
DTEND;TZID=America/Toronto:20230321T210000
DTSTAMP:20260424T112944
CREATED:20230220T210941Z
LAST-MODIFIED:20230220T210941Z
UID:13907-1679428800-1679432400@organizersincanada.com
SUMMARY:Working with Seniors
DESCRIPTION:
URL:https://organizersincanada.com/event/working-with-seniors/
CATEGORIES:TPO Credit courses
END:VEVENT
BEGIN:VEVENT
DTSTART;TZID=America/Toronto:20230320T184500
DTEND;TZID=America/Toronto:20230320T203000
DTSTAMP:20260424T112944
CREATED:20221003T231701Z
LAST-MODIFIED:20230302T210519Z
UID:12548-1679337900-1679344200@organizersincanada.com
SUMMARY:Toronto Chapter Meeting
DESCRIPTION:
URL:https://organizersincanada.com/event/toronto-chapter-meeting-12/
CATEGORIES:Chapter Events
END:VEVENT
BEGIN:VEVENT
DTSTART;TZID=America/Edmonton:20230320T180000
DTEND;TZID=America/Edmonton:20230320T200000
DTSTAMP:20260424T112945
CREATED:20230302T220224Z
LAST-MODIFIED:20230302T221824Z
UID:14024-1679335200-1679342400@organizersincanada.com
SUMMARY:Edmonton Chapter Meeting
DESCRIPTION:
URL:https://organizersincanada.com/event/edmonton-chapter-meeting-13/
CATEGORIES:Chapter Events
END:VEVENT
BEGIN:VEVENT
DTSTART;TZID=America/Toronto:20230316T213000
DTEND;TZID=America/Toronto:20230316T223000
DTSTAMP:20260424T112945
CREATED:20230212T210912Z
LAST-MODIFIED:20230309T215311Z
UID:13829-1679002200-1679005800@organizersincanada.com
SUMMARY:Should I Become an Organizer?
DESCRIPTION:
URL:https://organizersincanada.com/event/should-i-become-an-organizer-3/
CATEGORIES:POC Other courses
END:VEVENT
BEGIN:VEVENT
DTSTART;TZID=America/Toronto:20230316T200000
DTEND;TZID=America/Toronto:20230316T210000
DTSTAMP:20260424T112945
CREATED:20230212T175716Z
LAST-MODIFIED:20230212T175716Z
UID:13823-1678996800-1679000400@organizersincanada.com
SUMMARY:Room-by-Room Organizing
DESCRIPTION:
URL:https://organizersincanada.com/event/room-by-room-organizing/
CATEGORIES:TPO Credit courses
END:VEVENT
BEGIN:VEVENT
DTSTART;TZID=America/Toronto:20230315T213000
DTEND;TZID=America/Toronto:20230315T223000
DTSTAMP:20260424T112945
CREATED:20230209T155741Z
LAST-MODIFIED:20230209T155741Z
UID:13793-1678915800-1678919400@organizersincanada.com
SUMMARY:Basic Office Organizing
DESCRIPTION:
URL:https://organizersincanada.com/event/basic-office-organizing/
CATEGORIES:TPO Credit courses
END:VEVENT
BEGIN:VEVENT
DTSTART;TZID=America/Toronto:20230315T200000
DTEND;TZID=America/Toronto:20230315T210000
DTSTAMP:20260424T112945
CREATED:20230209T153152Z
LAST-MODIFIED:20230209T153152Z
UID:13788-1678910400-1678914000@organizersincanada.com
SUMMARY:Basic Residential Organizing
DESCRIPTION:
URL:https://organizersincanada.com/event/basic-residential-organizing/
CATEGORIES:TPO Credit courses
END:VEVENT
BEGIN:VEVENT
DTSTART;TZID=America/Toronto:20230314T190000
DTEND;TZID=America/Toronto:20230314T210000
DTSTAMP:20260424T112945
CREATED:20220817T175318Z
LAST-MODIFIED:20230307T212838Z
UID:11935-1678820400-1678827600@organizersincanada.com
SUMMARY:Halton-Peel Chapter Meeting
DESCRIPTION:
URL:https://organizersincanada.com/event/halton-peel-chapter-meeting-15/
CATEGORIES:Chapter Events
END:VEVENT
BEGIN:VEVENT
DTSTART;TZID=America/Toronto:20230313T190000
DTEND;TZID=America/Toronto:20230313T210000
DTSTAMP:20260424T112945
CREATED:20230228T190011Z
LAST-MODIFIED:20230302T223738Z
UID:13994-1678734000-1678741200@organizersincanada.com
SUMMARY:Montreal Chapter Meeting
DESCRIPTION:
URL:https://organizersincanada.com/event/montreal-chapter-meeting-3/
CATEGORIES:Chapter Events
END:VEVENT
BEGIN:VEVENT
DTSTART;TZID=America/Toronto:20230307T190000
DTEND;TZID=America/Toronto:20230307T210000
DTSTAMP:20260424T112945
CREATED:20230130T192711Z
LAST-MODIFIED:20230211T205427Z
UID:13659-1678215600-1678222800@organizersincanada.com
SUMMARY:Durham Chapter Meeting
DESCRIPTION:
URL:https://organizersincanada.com/event/durham-chapter-meeting-16/
CATEGORIES:Chapter Events
END:VEVENT
BEGIN:VEVENT
DTSTART;TZID=America/Toronto:20230228T200000
DTEND;TZID=America/Toronto:20230228T210000
DTSTAMP:20260424T112945
CREATED:20230111T155528Z
LAST-MODIFIED:20230111T155528Z
UID:13491-1677614400-1677618000@organizersincanada.com
SUMMARY:Cyber Chapter Meeting
DESCRIPTION:
URL:https://organizersincanada.com/event/cyber-chapter-meeting-17/
CATEGORIES:Chapter Events
END:VEVENT
BEGIN:VEVENT
DTSTART;TZID=America/Toronto:20230227T184500
DTEND;TZID=America/Toronto:20230227T203000
DTSTAMP:20260424T112945
CREATED:20221003T231503Z
LAST-MODIFIED:20221003T231503Z
UID:12546-1677523500-1677529800@organizersincanada.com
SUMMARY:Toronto Chapter Meeting
DESCRIPTION:
URL:https://organizersincanada.com/event/toronto-chapter-meeting-11/
CATEGORIES:Chapter Events
END:VEVENT
BEGIN:VEVENT
DTSTART;TZID=America/Edmonton:20230221T120000
DTEND;TZID=America/Edmonton:20230221T140000
DTSTAMP:20260424T112945
CREATED:20230211T202830Z
LAST-MODIFIED:20230211T203350Z
UID:13810-1676980800-1676988000@organizersincanada.com
SUMMARY:Calgary Chapter Lunch and Learn
DESCRIPTION:
URL:https://organizersincanada.com/event/calgary-chapter-meeting-7/
CATEGORIES:Chapter Events
END:VEVENT
BEGIN:VEVENT
DTSTART;TZID=America/Toronto:20230215T213000
DTEND;TZID=America/Toronto:20230215T223000
DTSTAMP:20260424T112945
CREATED:20221216T203135Z
LAST-MODIFIED:20221216T203135Z
UID:13262-1676496600-1676500200@organizersincanada.com
SUMMARY:Marketing and PR for Organizers (E-105)
DESCRIPTION:
URL:https://organizersincanada.com/event/marketing-and-pr-for-organizers-e-105-17/
CATEGORIES:TPO Credit courses
END:VEVENT
BEGIN:VEVENT
DTSTART;TZID=America/Toronto:20230215T200000
DTEND;TZID=America/Toronto:20230215T210000
DTSTAMP:20260424T112945
CREATED:20221216T201926Z
LAST-MODIFIED:20221216T201926Z
UID:13257-1676491200-1676494800@organizersincanada.com
SUMMARY:Closet and Pantry Organizing (E-205)
DESCRIPTION:
URL:https://organizersincanada.com/event/closet-and-pantry-organizing-e-205-15/
CATEGORIES:TPO Credit courses
END:VEVENT
BEGIN:VEVENT
DTSTART;TZID=America/Toronto:20230213T190000
DTEND;TZID=America/Toronto:20230213T210000
DTSTAMP:20260424T112945
CREATED:20230129T202108Z
LAST-MODIFIED:20230129T202208Z
UID:13636-1676314800-1676322000@organizersincanada.com
SUMMARY:Montreal Chapter Meeting
DESCRIPTION:
URL:https://organizersincanada.com/event/montreal-chapter-meeting-2/
CATEGORIES:Chapter Events
END:VEVENT
BEGIN:VEVENT
DTSTART;TZID=America/Toronto:20230213T190000
DTEND;TZID=America/Toronto:20230213T210000
DTSTAMP:20260424T112945
CREATED:20221111T160531Z
LAST-MODIFIED:20221111T160531Z
UID:12902-1676314800-1676322000@organizersincanada.com
SUMMARY:Montreal Chapter Meeting / Réunion mensuelle
DESCRIPTION:
URL:https://organizersincanada.com/event/montreal-chapter-meeting-reunion-mensuelle-16/
CATEGORIES:Chapter Events
END:VEVENT
END:VCALENDAR