BEGIN:VCALENDAR
VERSION:2.0
PRODID:-//Professional Organizers in Canada - ECPv6.15.20//NONSGML v1.0//EN
CALSCALE:GREGORIAN
METHOD:PUBLISH
X-WR-CALNAME:Professional Organizers in Canada
X-ORIGINAL-URL:https://organizersincanada.com
X-WR-CALDESC:Events for Professional Organizers in Canada
REFRESH-INTERVAL;VALUE=DURATION:PT1H
X-Robots-Tag:noindex
X-PUBLISHED-TTL:PT1H
BEGIN:VTIMEZONE
TZID:America/Toronto
BEGIN:DAYLIGHT
TZOFFSETFROM:-0500
TZOFFSETTO:-0400
TZNAME:EDT
DTSTART:20210314T070000
END:DAYLIGHT
BEGIN:STANDARD
TZOFFSETFROM:-0400
TZOFFSETTO:-0500
TZNAME:EST
DTSTART:20211107T060000
END:STANDARD
BEGIN:DAYLIGHT
TZOFFSETFROM:-0500
TZOFFSETTO:-0400
TZNAME:EDT
DTSTART:20220313T070000
END:DAYLIGHT
BEGIN:STANDARD
TZOFFSETFROM:-0400
TZOFFSETTO:-0500
TZNAME:EST
DTSTART:20221106T060000
END:STANDARD
BEGIN:DAYLIGHT
TZOFFSETFROM:-0500
TZOFFSETTO:-0400
TZNAME:EDT
DTSTART:20230312T070000
END:DAYLIGHT
BEGIN:STANDARD
TZOFFSETFROM:-0400
TZOFFSETTO:-0500
TZNAME:EST
DTSTART:20231105T060000
END:STANDARD
END:VTIMEZONE
BEGIN:VTIMEZONE
TZID:America/Edmonton
BEGIN:DAYLIGHT
TZOFFSETFROM:-0700
TZOFFSETTO:-0600
TZNAME:MDT
DTSTART:20210314T090000
END:DAYLIGHT
BEGIN:STANDARD
TZOFFSETFROM:-0600
TZOFFSETTO:-0700
TZNAME:MST
DTSTART:20211107T080000
END:STANDARD
BEGIN:DAYLIGHT
TZOFFSETFROM:-0700
TZOFFSETTO:-0600
TZNAME:MDT
DTSTART:20220313T090000
END:DAYLIGHT
BEGIN:STANDARD
TZOFFSETFROM:-0600
TZOFFSETTO:-0700
TZNAME:MST
DTSTART:20221106T080000
END:STANDARD
BEGIN:DAYLIGHT
TZOFFSETFROM:-0700
TZOFFSETTO:-0600
TZNAME:MDT
DTSTART:20230312T090000
END:DAYLIGHT
BEGIN:STANDARD
TZOFFSETFROM:-0600
TZOFFSETTO:-0700
TZNAME:MST
DTSTART:20231105T080000
END:STANDARD
END:VTIMEZONE
BEGIN:VEVENT
DTSTART;TZID=America/Toronto:20220811T200000
DTEND;TZID=America/Toronto:20220811T210000
DTSTAMP:20260424T140503
CREATED:20220621T145755Z
LAST-MODIFIED:20220621T145755Z
UID:11302-1660248000-1660251600@organizersincanada.com
SUMMARY:Marketing and PR for Organizers (E-105)
DESCRIPTION:
URL:https://organizersincanada.com/event/marketing-and-pr-for-organizers-e-105-14/
CATEGORIES:TPO Credit courses
END:VEVENT
BEGIN:VEVENT
DTSTART;TZID=America/Toronto:20220726T213000
DTEND;TZID=America/Toronto:20220726T223000
DTSTAMP:20260424T140503
CREATED:20220621T135011Z
LAST-MODIFIED:20220621T135244Z
UID:11295-1658871000-1658874600@organizersincanada.com
SUMMARY:The Assessment (E-102)
DESCRIPTION:
URL:https://organizersincanada.com/event/the-assessment-e-102-13/
CATEGORIES:TPO Credit courses
END:VEVENT
BEGIN:VEVENT
DTSTART;TZID=America/Toronto:20220726T200000
DTEND;TZID=America/Toronto:20220726T210000
DTSTAMP:20260424T140503
CREATED:20220620T152806Z
LAST-MODIFIED:20220620T202504Z
UID:11284-1658865600-1658869200@organizersincanada.com
SUMMARY:Closet and Pantry Organizing (E-205)
DESCRIPTION:
URL:https://organizersincanada.com/event/closet-and-pantry-organizing-e-205-12/
CATEGORIES:TPO Credit courses
END:VEVENT
BEGIN:VEVENT
DTSTART;TZID=America/Toronto:20220714T213000
DTEND;TZID=America/Toronto:20220714T223000
DTSTAMP:20260424T140503
CREATED:20220524T204947Z
LAST-MODIFIED:20220524T204947Z
UID:11028-1657834200-1657837800@organizersincanada.com
SUMMARY:Basic Residential Organizing (E-104)
DESCRIPTION:
URL:https://organizersincanada.com/event/basic-residential-organizing-e-104-13/
CATEGORIES:TPO Credit courses
END:VEVENT
BEGIN:VEVENT
DTSTART;TZID=America/Toronto:20220714T200000
DTEND;TZID=America/Toronto:20220714T210000
DTSTAMP:20260424T140503
CREATED:20220524T204328Z
LAST-MODIFIED:20220524T204328Z
UID:11025-1657828800-1657832400@organizersincanada.com
SUMMARY:Basic Office Organizing (E-107)
DESCRIPTION:
URL:https://organizersincanada.com/event/basic-office-organizing-e-107-12/
CATEGORIES:TPO Credit courses
END:VEVENT
BEGIN:VEVENT
DTSTART;TZID=America/Toronto:20220712T213000
DTEND;TZID=America/Toronto:20220712T223000
DTSTAMP:20260424T140503
CREATED:20220620T151136Z
LAST-MODIFIED:20220620T151136Z
UID:11277-1657661400-1657665000@organizersincanada.com
SUMMARY:Fees and Billings (E-103)
DESCRIPTION:
URL:https://organizersincanada.com/event/fees-and-billings-e-103-10/
CATEGORIES:TPO Credit courses
END:VEVENT
BEGIN:VEVENT
DTSTART;TZID=America/Toronto:20220712T200000
DTEND;TZID=America/Toronto:20220712T210000
DTSTAMP:20260424T140503
CREATED:20220704T202235Z
LAST-MODIFIED:20220704T202320Z
UID:11433-1657656000-1657659600@organizersincanada.com
SUMMARY:Should I Become an Organizer? (E-001)
DESCRIPTION:
URL:https://organizersincanada.com/event/should-i-become-an-organizer-e-001-26/
CATEGORIES:POC Other courses
END:VEVENT
BEGIN:VEVENT
DTSTART;TZID=America/Toronto:20220629T200000
DTEND;TZID=America/Toronto:20220629T210000
DTSTAMP:20260424T140503
CREATED:20220420T180904Z
LAST-MODIFIED:20220420T180904Z
UID:10700-1656532800-1656536400@organizersincanada.com
SUMMARY:Should I Become an Organizer? (E-001)
DESCRIPTION:
URL:https://organizersincanada.com/event/should-i-become-an-organizer-e-001-25/
CATEGORIES:POC Other courses
END:VEVENT
BEGIN:VEVENT
DTSTART;TZID=America/Toronto:20220620T184500
DTEND;TZID=America/Toronto:20220620T200000
DTSTAMP:20260424T140503
CREATED:20210929T194646Z
LAST-MODIFIED:20220309T154007Z
UID:7862-1655750700-1655755200@organizersincanada.com
SUMMARY:Toronto Chapter Meeting
DESCRIPTION:
URL:https://organizersincanada.com/event/toronto-chapter-meeting-6/
CATEGORIES:Chapter Events
END:VEVENT
BEGIN:VEVENT
DTSTART;TZID=America/Edmonton:20220620T180000
DTEND;TZID=America/Edmonton:20220620T200000
DTSTAMP:20260424T140503
CREATED:20220602T184609Z
LAST-MODIFIED:20220602T191958Z
UID:11133-1655748000-1655755200@organizersincanada.com
SUMMARY:Edmonton Chapter Meeting
DESCRIPTION:
URL:https://organizersincanada.com/event/edmonton-chapter-meeting-9/
CATEGORIES:Chapter Events
END:VEVENT
BEGIN:VEVENT
DTSTART;TZID=America/Toronto:20220615T200000
DTEND;TZID=America/Toronto:20220615T210000
DTSTAMP:20260424T140503
CREATED:20220607T202221Z
LAST-MODIFIED:20220607T202221Z
UID:11233-1655323200-1655326800@organizersincanada.com
SUMMARY:Cyber Chapter Meeting
DESCRIPTION:
URL:https://organizersincanada.com/event/cyber-chapter-meeting-12/
CATEGORIES:Chapter Events
END:VEVENT
BEGIN:VEVENT
DTSTART;TZID=America/Toronto:20220615T200000
DTEND;TZID=America/Toronto:20220615T210000
DTSTAMP:20260424T140503
CREATED:20220309T190948Z
LAST-MODIFIED:20220317T180524Z
UID:10210-1655323200-1655326800@organizersincanada.com
SUMMARY:Room-by-Room Organizing (E-203)
DESCRIPTION:
URL:https://organizersincanada.com/event/room-by-room-organizing-e-203-12/
CATEGORIES:TPO Credit courses
END:VEVENT
BEGIN:VEVENT
DTSTART;TZID=America/Toronto:20220615T130000
DTEND;TZID=America/Toronto:20220615T140000
DTSTAMP:20260424T140503
CREATED:20220311T163717Z
LAST-MODIFIED:20220406T145721Z
UID:10243-1655298000-1655301600@organizersincanada.com
SUMMARY:TPO Exam - June 2022
DESCRIPTION:
URL:https://organizersincanada.com/event/tpo-exam-june-2022/
CATEGORIES:TPO Exams
END:VEVENT
BEGIN:VEVENT
DTSTART;TZID=America/Toronto:20220614T190000
DTEND;TZID=America/Toronto:20220614T210000
DTSTAMP:20260424T140503
CREATED:20210826T154505Z
LAST-MODIFIED:20220608T152504Z
UID:7370-1655233200-1655240400@organizersincanada.com
SUMMARY:Halton-Peel Chapter Summer Social & AGM
DESCRIPTION:
URL:https://organizersincanada.com/event/halton-peel-chapter-summer-social-agm/
CATEGORIES:Chapter Events
END:VEVENT
BEGIN:VEVENT
DTSTART;TZID=America/Toronto:20220614T180000
DTEND;TZID=America/Toronto:20220614T210000
DTSTAMP:20260424T140503
CREATED:20220606T134249Z
LAST-MODIFIED:20220607T193113Z
UID:11212-1655229600-1655240400@organizersincanada.com
SUMMARY:Durham Chapter AGM & Summer Social
DESCRIPTION:
URL:https://organizersincanada.com/event/durham-chapter-agm-summer-social-2/
CATEGORIES:Chapter Events
END:VEVENT
BEGIN:VEVENT
DTSTART;TZID=America/Toronto:20220613T200000
DTEND;TZID=America/Toronto:20220613T210000
DTSTAMP:20260424T140503
CREATED:20220420T175954Z
LAST-MODIFIED:20220420T175954Z
UID:10697-1655150400-1655154000@organizersincanada.com
SUMMARY:Should I Become an Organizer? (E-001)
DESCRIPTION:
URL:https://organizersincanada.com/event/should-i-become-an-organizer-e-001-24/
CATEGORIES:POC Other courses
END:VEVENT
BEGIN:VEVENT
DTSTART;TZID=America/Toronto:20220613T190000
DTEND;TZID=America/Toronto:20220613T210000
DTSTAMP:20260424T140503
CREATED:20220523T193446Z
LAST-MODIFIED:20220523T193446Z
UID:11011-1655146800-1655154000@organizersincanada.com
SUMMARY:Montreal Chapter Meeting / Réunion mensuelle
DESCRIPTION:
URL:https://organizersincanada.com/event/montreal-chapter-meeting-reunion-mensuelle-10/
CATEGORIES:Chapter Events
END:VEVENT
BEGIN:VEVENT
DTSTART;TZID=America/Toronto:20220609T213000
DTEND;TZID=America/Toronto:20220609T223000
DTSTAMP:20260424T140503
CREATED:20220308T190543Z
LAST-MODIFIED:20220308T190543Z
UID:10159-1654810200-1654813800@organizersincanada.com
SUMMARY:Working with the Chronically Disorganized (E-108)
DESCRIPTION:
URL:https://organizersincanada.com/event/working-with-the-chronically-disorganized-e-108-10/
CATEGORIES:TPO Credit courses
END:VEVENT
BEGIN:VEVENT
DTSTART;TZID=America/Toronto:20220608T200000
DTEND;TZID=America/Toronto:20220608T210000
DTSTAMP:20260424T140503
CREATED:20220308T205139Z
LAST-MODIFIED:20220308T205139Z
UID:10167-1654718400-1654722000@organizersincanada.com
SUMMARY:Working with Seniors (E-201)
DESCRIPTION:
URL:https://organizersincanada.com/event/working-with-seniors-e-201-14/
CATEGORIES:TPO Credit courses
END:VEVENT
BEGIN:VEVENT
DTSTART;TZID=America/Toronto:20220602T200000
DTEND;TZID=America/Toronto:20220602T210000
DTSTAMP:20260424T140503
CREATED:20220512T201800Z
LAST-MODIFIED:20220516T204355Z
UID:10903-1654200000-1654203600@organizersincanada.com
SUMMARY:TPO Exam Q&A Zoom Session
DESCRIPTION:
URL:https://organizersincanada.com/event/tpo-exam-qa-zoom-session/
CATEGORIES:TPO Exams
END:VEVENT
BEGIN:VEVENT
DTSTART;TZID=America/Toronto:20220530T200000
DTEND;TZID=America/Toronto:20220530T210000
DTSTAMP:20260424T140503
CREATED:20220420T174633Z
LAST-MODIFIED:20220420T174633Z
UID:10693-1653940800-1653944400@organizersincanada.com
SUMMARY:Should I Become an Organizer? (E-001)
DESCRIPTION:
URL:https://organizersincanada.com/event/should-i-become-an-organizer-e-001-23/
CATEGORIES:POC Other courses
END:VEVENT
BEGIN:VEVENT
DTSTART;TZID=America/Toronto:20220526T213000
DTEND;TZID=America/Toronto:20220526T223000
DTSTAMP:20260424T140503
CREATED:20220309T185458Z
LAST-MODIFIED:20220309T185458Z
UID:10203-1653600600-1653604200@organizersincanada.com
SUMMARY:Marketing and PR for Organizers (E-105)
DESCRIPTION:
URL:https://organizersincanada.com/event/marketing-and-pr-for-organizers-e-105-13/
CATEGORIES:TPO Credit courses
END:VEVENT
BEGIN:VEVENT
DTSTART;TZID=America/Toronto:20220524T213000
DTEND;TZID=America/Toronto:20220524T223000
DTSTAMP:20260424T140503
CREATED:20220309T164039Z
LAST-MODIFIED:20220525T180019Z
UID:10193-1653427800-1653431400@organizersincanada.com
SUMMARY:Basic Residential Organizing (E-104)
DESCRIPTION:
URL:https://organizersincanada.com/event/basic-residential-organizing-e-104-12/
CATEGORIES:TPO Credit courses
END:VEVENT
BEGIN:VEVENT
DTSTART;TZID=America/Toronto:20220524T200000
DTEND;TZID=America/Toronto:20220524T210000
DTSTAMP:20260424T140503
CREATED:20220308T210129Z
LAST-MODIFIED:20220525T180033Z
UID:10171-1653422400-1653426000@organizersincanada.com
SUMMARY:Basic Office Organizing (E-107)
DESCRIPTION:
URL:https://organizersincanada.com/event/basic-office-organizing-e-107-11/
CATEGORIES:TPO Credit courses
END:VEVENT
BEGIN:VEVENT
DTSTART;TZID=America/Toronto:20220519T200000
DTEND;TZID=America/Toronto:20220519T210000
DTSTAMP:20260424T140503
CREATED:20220420T173817Z
LAST-MODIFIED:20220420T173817Z
UID:10690-1652990400-1652994000@organizersincanada.com
SUMMARY:Should I Become an Organizer? (E-001)
DESCRIPTION:
URL:https://organizersincanada.com/event/should-i-become-an-organizer-e-001-22/
CATEGORIES:POC Other courses
END:VEVENT
BEGIN:VEVENT
DTSTART;TZID=America/Toronto:20220519T110000
DTEND;TZID=America/Toronto:20220519T150000
DTSTAMP:20260424T140503
CREATED:20220502T200109Z
LAST-MODIFIED:20220518T192346Z
UID:10758-1652958000-1652972400@organizersincanada.com
SUMMARY:National PD Day in partnership with the Toronto Chapter
DESCRIPTION:
URL:https://organizersincanada.com/event/national-pd-day-in-partnership-with-the-toronto-chapter/
CATEGORIES:National Conference
END:VEVENT
BEGIN:VEVENT
DTSTART;TZID=America/Toronto:20220518T200000
DTEND;TZID=America/Toronto:20220518T210000
DTSTAMP:20260424T140503
CREATED:20220509T192848Z
LAST-MODIFIED:20220509T192848Z
UID:10859-1652904000-1652907600@organizersincanada.com
SUMMARY:Cyber Chapter Meeting
DESCRIPTION:
URL:https://organizersincanada.com/event/cyber-chapter-meeting-11/
CATEGORIES:Chapter Events
END:VEVENT
BEGIN:VEVENT
DTSTART;TZID=America/Toronto:20220517T200000
DTEND;TZID=America/Toronto:20220517T210000
DTSTAMP:20260424T140503
CREATED:20220309T191935Z
LAST-MODIFIED:20220311T184723Z
UID:10214-1652817600-1652821200@organizersincanada.com
SUMMARY:Closet and Pantry Organizing (E-205)
DESCRIPTION:
URL:https://organizersincanada.com/event/closet-and-pantry-organizing-e-205-11/
CATEGORIES:TPO Credit courses
END:VEVENT
BEGIN:VEVENT
DTSTART;TZID=America/Edmonton:20220516T190000
DTEND;TZID=America/Edmonton:20220516T200000
DTSTAMP:20260424T140503
CREATED:20220504T214705Z
LAST-MODIFIED:20220512T174510Z
UID:10809-1652727600-1652731200@organizersincanada.com
SUMMARY:Edmonton Chapter Meeting
DESCRIPTION:
URL:https://organizersincanada.com/event/edmonton-chapter-meeting-7/
CATEGORIES:Chapter Events
END:VEVENT
BEGIN:VEVENT
DTSTART;TZID=America/Toronto:20220512T090000
DTEND;TZID=America/Toronto:20220512T160000
DTSTAMP:20260424T140503
CREATED:20220427T141907Z
LAST-MODIFIED:20220427T141907Z
UID:10732-1652346000-1652371200@organizersincanada.com
SUMMARY:Durham Chapter Meeting
DESCRIPTION:
URL:https://organizersincanada.com/event/durham-chapter-meeting-10/
CATEGORIES:Chapter Events
END:VEVENT
END:VCALENDAR