BEGIN:VCALENDAR
VERSION:2.0
PRODID:-//Professional Organizers in Canada - ECPv6.15.20//NONSGML v1.0//EN
CALSCALE:GREGORIAN
METHOD:PUBLISH
X-WR-CALNAME:Professional Organizers in Canada
X-ORIGINAL-URL:https://organizersincanada.com
X-WR-CALDESC:Events for Professional Organizers in Canada
REFRESH-INTERVAL;VALUE=DURATION:PT1H
X-Robots-Tag:noindex
X-PUBLISHED-TTL:PT1H
BEGIN:VTIMEZONE
TZID:America/Toronto
BEGIN:DAYLIGHT
TZOFFSETFROM:-0500
TZOFFSETTO:-0400
TZNAME:EDT
DTSTART:20210314T070000
END:DAYLIGHT
BEGIN:STANDARD
TZOFFSETFROM:-0400
TZOFFSETTO:-0500
TZNAME:EST
DTSTART:20211107T060000
END:STANDARD
BEGIN:DAYLIGHT
TZOFFSETFROM:-0500
TZOFFSETTO:-0400
TZNAME:EDT
DTSTART:20220313T070000
END:DAYLIGHT
BEGIN:STANDARD
TZOFFSETFROM:-0400
TZOFFSETTO:-0500
TZNAME:EST
DTSTART:20221106T060000
END:STANDARD
BEGIN:DAYLIGHT
TZOFFSETFROM:-0500
TZOFFSETTO:-0400
TZNAME:EDT
DTSTART:20230312T070000
END:DAYLIGHT
BEGIN:STANDARD
TZOFFSETFROM:-0400
TZOFFSETTO:-0500
TZNAME:EST
DTSTART:20231105T060000
END:STANDARD
END:VTIMEZONE
BEGIN:VTIMEZONE
TZID:America/Edmonton
BEGIN:DAYLIGHT
TZOFFSETFROM:-0700
TZOFFSETTO:-0600
TZNAME:MDT
DTSTART:20210314T090000
END:DAYLIGHT
BEGIN:STANDARD
TZOFFSETFROM:-0600
TZOFFSETTO:-0700
TZNAME:MST
DTSTART:20211107T080000
END:STANDARD
BEGIN:DAYLIGHT
TZOFFSETFROM:-0700
TZOFFSETTO:-0600
TZNAME:MDT
DTSTART:20220313T090000
END:DAYLIGHT
BEGIN:STANDARD
TZOFFSETFROM:-0600
TZOFFSETTO:-0700
TZNAME:MST
DTSTART:20221106T080000
END:STANDARD
BEGIN:DAYLIGHT
TZOFFSETFROM:-0700
TZOFFSETTO:-0600
TZNAME:MDT
DTSTART:20230312T090000
END:DAYLIGHT
BEGIN:STANDARD
TZOFFSETFROM:-0600
TZOFFSETTO:-0700
TZNAME:MST
DTSTART:20231105T080000
END:STANDARD
END:VTIMEZONE
BEGIN:VEVENT
DTSTART;TZID=America/Toronto:20220317T200000
DTEND;TZID=America/Toronto:20220317T210000
DTSTAMP:20260425T084737
CREATED:20220205T210844Z
LAST-MODIFIED:20220301T141204Z
UID:9634-1647547200-1647550800@organizersincanada.com
SUMMARY:Working with Seniors (E-201)
DESCRIPTION:
URL:https://organizersincanada.com/event/working-with-seniors-e-201-12/
CATEGORIES:TPO Credit courses
END:VEVENT
BEGIN:VEVENT
DTSTART;TZID=America/Toronto:20220316T200000
DTEND;TZID=America/Toronto:20220316T210000
DTSTAMP:20260425T084737
CREATED:20220307T190255Z
LAST-MODIFIED:20220307T190255Z
UID:10112-1647460800-1647464400@organizersincanada.com
SUMMARY:Cyber Chapter Meeting
DESCRIPTION:
URL:https://organizersincanada.com/event/cyber-chapter-meeting-9/
CATEGORIES:Chapter Events
END:VEVENT
BEGIN:VEVENT
DTSTART;TZID=America/Toronto:20220314T190000
DTEND;TZID=America/Toronto:20220314T210000
DTSTAMP:20260425T084737
CREATED:20220228T144909Z
LAST-MODIFIED:20220228T144909Z
UID:9976-1647284400-1647291600@organizersincanada.com
SUMMARY:Montreal Chapter Meeting / Réunion mensuelle
DESCRIPTION:
URL:https://organizersincanada.com/event/montreal-chapter-meeting-reunion-mensuelle-7/
CATEGORIES:Chapter Events
END:VEVENT
BEGIN:VEVENT
DTSTART;TZID=America/Toronto:20220310T200000
DTEND;TZID=America/Toronto:20220310T210000
DTSTAMP:20260425T084737
CREATED:20220304T154130Z
LAST-MODIFIED:20220304T154130Z
UID:10056-1646942400-1646946000@organizersincanada.com
SUMMARY:Should I Become an Organizer? (E-001)
DESCRIPTION:
URL:https://organizersincanada.com/event/should-i-become-an-organizer-e-001-18/
CATEGORIES:POC Other courses
END:VEVENT
BEGIN:VEVENT
DTSTART;TZID=America/Toronto:20220308T190000
DTEND;TZID=America/Toronto:20220308T210000
DTSTAMP:20260425T084737
CREATED:20220303T211325Z
LAST-MODIFIED:20220303T211325Z
UID:10048-1646766000-1646773200@organizersincanada.com
SUMMARY:Durham Chapter Meeting
DESCRIPTION:
URL:https://organizersincanada.com/event/durham-chapter-meeting-8/
CATEGORIES:Chapter Events
END:VEVENT
BEGIN:VEVENT
DTSTART;TZID=America/Toronto:20220308T190000
DTEND;TZID=America/Toronto:20220308T210000
DTSTAMP:20260425T084737
CREATED:20210826T153508Z
LAST-MODIFIED:20220303T212907Z
UID:7366-1646766000-1646773200@organizersincanada.com
SUMMARY:Halton-Peel Chapter Meeting
DESCRIPTION:
URL:https://organizersincanada.com/event/halton-peel-chapter-meeting-8/
CATEGORIES:Chapter Events
END:VEVENT
BEGIN:VEVENT
DTSTART;TZID=America/Toronto:20220302T200000
DTEND;TZID=America/Toronto:20220302T210000
DTSTAMP:20260425T084737
CREATED:20220204T160700Z
LAST-MODIFIED:20220204T160700Z
UID:9612-1646251200-1646254800@organizersincanada.com
SUMMARY:Closet and Pantry Organizing (E-205)
DESCRIPTION:
URL:https://organizersincanada.com/event/closet-and-pantry-organizing-e-205-9/
CATEGORIES:TPO Credit courses
END:VEVENT
BEGIN:VEVENT
DTSTART;TZID=America/Toronto:20220228T184500
DTEND;TZID=America/Toronto:20220228T200000
DTSTAMP:20260425T084737
CREATED:20210929T194052Z
LAST-MODIFIED:20210929T194052Z
UID:7854-1646073900-1646078400@organizersincanada.com
SUMMARY:Toronto Chapter Vendor Marketplace
DESCRIPTION:
URL:https://organizersincanada.com/event/toronto-chapter-vendor-marketplace/
CATEGORIES:Chapter Events
END:VEVENT
BEGIN:VEVENT
DTSTART;TZID=America/Edmonton:20220224T180000
DTEND;TZID=America/Edmonton:20220224T200000
DTSTAMP:20260425T084737
CREATED:20211015T203910Z
LAST-MODIFIED:20220113T194249Z
UID:8253-1645725600-1645732800@organizersincanada.com
SUMMARY:Calgary Chapter Meeting
DESCRIPTION:
URL:https://organizersincanada.com/event/calgary-chapter-meeting-3/
CATEGORIES:Chapter Events
END:VEVENT
BEGIN:VEVENT
DTSTART;TZID=America/Toronto:20220223T200000
DTEND;TZID=America/Toronto:20220223T210000
DTSTAMP:20260425T084737
CREATED:20211222T194220Z
LAST-MODIFIED:20211222T194220Z
UID:8915-1645646400-1645650000@organizersincanada.com
SUMMARY:Should I Become an Organizer? (E-001)
DESCRIPTION:
URL:https://organizersincanada.com/event/should-i-become-an-organizer-e-001-17/
CATEGORIES:POC Other courses
END:VEVENT
BEGIN:VEVENT
DTSTART;TZID=America/Toronto:20220216T200000
DTEND;TZID=America/Toronto:20220216T210000
DTSTAMP:20260425T084737
CREATED:20220210T211057Z
LAST-MODIFIED:20220210T211647Z
UID:9747-1645041600-1645045200@organizersincanada.com
SUMMARY:Cyber Chapter Meeting
DESCRIPTION:
URL:https://organizersincanada.com/event/cyber-chapter-meeting-8/
CATEGORIES:Chapter Events
END:VEVENT
BEGIN:VEVENT
DTSTART;TZID=America/Toronto:20220216T200000
DTEND;TZID=America/Toronto:20220216T210000
DTSTAMP:20260425T084737
CREATED:20220113T185325Z
LAST-MODIFIED:20220113T185325Z
UID:9147-1645041600-1645045200@organizersincanada.com
SUMMARY:Working with the Chronically Disorganized (E-108)
DESCRIPTION:
URL:https://organizersincanada.com/event/working-with-the-chronically-disorganized-e-108-8/
CATEGORIES:TPO Credit courses
END:VEVENT
BEGIN:VEVENT
DTSTART;TZID=America/Toronto:20220215T200000
DTEND;TZID=America/Toronto:20220215T210000
DTSTAMP:20260425T084737
CREATED:20220113T184119Z
LAST-MODIFIED:20220113T184119Z
UID:9141-1644955200-1644958800@organizersincanada.com
SUMMARY:Working with Seniors (E-201)
DESCRIPTION:
URL:https://organizersincanada.com/event/working-with-seniors-e-201-11/
CATEGORIES:TPO Credit courses
END:VEVENT
BEGIN:VEVENT
DTSTART;TZID=America/Toronto:20220215T190000
DTEND;TZID=America/Toronto:20220215T210000
DTSTAMP:20260425T084737
CREATED:20220124T200830Z
LAST-MODIFIED:20220124T200830Z
UID:9317-1644951600-1644958800@organizersincanada.com
SUMMARY:Montreal Chapter Meeting / Réunion mensuelle
DESCRIPTION:
URL:https://organizersincanada.com/event/montreal-chapter-meeting-reunion-mensuelle-6/
CATEGORIES:Chapter Events
END:VEVENT
BEGIN:VEVENT
DTSTART;TZID=America/Toronto:20220208T190000
DTEND;TZID=America/Toronto:20220208T210000
DTSTAMP:20260425T084737
CREATED:20220131T184247Z
LAST-MODIFIED:20220131T184247Z
UID:9556-1644346800-1644354000@organizersincanada.com
SUMMARY:Durham Chapter Meeting
DESCRIPTION:
URL:https://organizersincanada.com/event/durham-chapter-meeting-7/
CATEGORIES:Chapter Events
END:VEVENT
BEGIN:VEVENT
DTSTART;TZID=America/Toronto:20220208T190000
DTEND;TZID=America/Toronto:20220208T210000
DTSTAMP:20260425T084737
CREATED:20210826T153126Z
LAST-MODIFIED:20220124T190258Z
UID:7364-1644346800-1644354000@organizersincanada.com
SUMMARY:Halton-Peel Chapter Meeting
DESCRIPTION:
URL:https://organizersincanada.com/event/halton-peel-chapter-meeting-7/
CATEGORIES:Chapter Events
END:VEVENT
BEGIN:VEVENT
DTSTART;TZID=America/Toronto:20220207T200000
DTEND;TZID=America/Toronto:20220207T210000
DTSTAMP:20260425T084737
CREATED:20220113T184733Z
LAST-MODIFIED:20220113T184733Z
UID:9144-1644264000-1644267600@organizersincanada.com
SUMMARY:Room-by-Room Organizing (E-203)
DESCRIPTION:
URL:https://organizersincanada.com/event/room-by-room-organizing-e-203-9/
CATEGORIES:TPO Credit courses
END:VEVENT
BEGIN:VEVENT
DTSTART;TZID=America/Toronto:20220203T213000
DTEND;TZID=America/Toronto:20220203T223000
DTSTAMP:20260425T084737
CREATED:20211222T193601Z
LAST-MODIFIED:20211222T193601Z
UID:8911-1643923800-1643927400@organizersincanada.com
SUMMARY:Should I Become an Organizer? (E-001)
DESCRIPTION:
URL:https://organizersincanada.com/event/should-i-become-an-organizer-e-001-16/
CATEGORIES:POC Other courses
END:VEVENT
BEGIN:VEVENT
DTSTART;TZID=America/Toronto:20220127T200000
DTEND;TZID=America/Toronto:20220127T210000
DTSTAMP:20260425T084737
CREATED:20220113T183448Z
LAST-MODIFIED:20220113T183448Z
UID:9138-1643313600-1643317200@organizersincanada.com
SUMMARY:Working with Seniors (E-201)
DESCRIPTION:
URL:https://organizersincanada.com/event/working-with-seniors-e-201-10/
CATEGORIES:TPO Credit courses
END:VEVENT
BEGIN:VEVENT
DTSTART;TZID=America/Toronto:20220125T213000
DTEND;TZID=America/Toronto:20220125T223000
DTSTAMP:20260425T084737
CREATED:20220106T192826Z
LAST-MODIFIED:20220106T192826Z
UID:9062-1643146200-1643149800@organizersincanada.com
SUMMARY:Marketing and PR for Organizers (E-105)
DESCRIPTION:
URL:https://organizersincanada.com/event/marketing-and-pr-for-organizers-e-105-10/
CATEGORIES:TPO Credit courses
END:VEVENT
BEGIN:VEVENT
DTSTART;TZID=America/Toronto:20220125T200000
DTEND;TZID=America/Toronto:20220125T210000
DTSTAMP:20260425T084737
CREATED:20220106T191934Z
LAST-MODIFIED:20220106T191934Z
UID:9059-1643140800-1643144400@organizersincanada.com
SUMMARY:The Assessment (E-102)
DESCRIPTION:
URL:https://organizersincanada.com/event/the-assessment-e-102-10/
CATEGORIES:TPO Credit courses
END:VEVENT
BEGIN:VEVENT
DTSTART;TZID=America/Toronto:20220120T200000
DTEND;TZID=America/Toronto:20220120T210000
DTSTAMP:20260425T084737
CREATED:20220106T191225Z
LAST-MODIFIED:20220106T191225Z
UID:9049-1642708800-1642712400@organizersincanada.com
SUMMARY:Closet and Pantry Organizing (E-205)
DESCRIPTION:
URL:https://organizersincanada.com/event/closet-and-pantry-organizing-e-205-8/
CATEGORIES:TPO Credit courses
END:VEVENT
BEGIN:VEVENT
DTSTART;TZID=America/Edmonton:20220120T180000
DTEND;TZID=America/Edmonton:20220120T200000
DTSTAMP:20260425T084737
CREATED:20211015T203521Z
LAST-MODIFIED:20220113T194131Z
UID:8251-1642701600-1642708800@organizersincanada.com
SUMMARY:Calgary Chapter Meeting
DESCRIPTION:
URL:https://organizersincanada.com/event/calgary-chapter-meeting-2/
CATEGORIES:Chapter Events
END:VEVENT
BEGIN:VEVENT
DTSTART;TZID=America/Toronto:20220119T200000
DTEND;TZID=America/Toronto:20220119T210000
DTSTAMP:20260425T084737
CREATED:20211229T202720Z
LAST-MODIFIED:20211229T202720Z
UID:8948-1642622400-1642626000@organizersincanada.com
SUMMARY:Cyber Chapter Meeting
DESCRIPTION:
URL:https://organizersincanada.com/event/cyber-chapter-meeting-7/
CATEGORIES:Chapter Events
END:VEVENT
BEGIN:VEVENT
DTSTART;TZID=America/Toronto:20220118T213000
DTEND;TZID=America/Toronto:20220118T223000
DTSTAMP:20260425T084737
CREATED:20220105T215400Z
LAST-MODIFIED:20220105T215400Z
UID:9035-1642541400-1642545000@organizersincanada.com
SUMMARY:Organizing Tools (E-106)
DESCRIPTION:
URL:https://organizersincanada.com/event/organizing-tools-e-106-8/
CATEGORIES:TPO Credit courses
END:VEVENT
BEGIN:VEVENT
DTSTART;TZID=America/Toronto:20220118T200000
DTEND;TZID=America/Toronto:20220118T210000
DTSTAMP:20260425T084737
CREATED:20220105T214312Z
LAST-MODIFIED:20220105T214742Z
UID:9032-1642536000-1642539600@organizersincanada.com
SUMMARY:Fees and Billings (E-103)
DESCRIPTION:
URL:https://organizersincanada.com/event/fees-and-billings-e-103-7/
CATEGORIES:TPO Credit courses
END:VEVENT
BEGIN:VEVENT
DTSTART;TZID=America/Toronto:20220117T184500
DTEND;TZID=America/Toronto:20220117T200000
DTSTAMP:20260425T084737
CREATED:20210929T193920Z
LAST-MODIFIED:20210929T193920Z
UID:7852-1642445100-1642449600@organizersincanada.com
SUMMARY:Toronto Chapter Meeting
DESCRIPTION:
URL:https://organizersincanada.com/event/toronto-chapter-meeting-3/
CATEGORIES:Chapter Events
END:VEVENT
BEGIN:VEVENT
DTSTART;TZID=America/Toronto:20220113T213000
DTEND;TZID=America/Toronto:20220113T223000
DTSTAMP:20260425T084737
CREATED:20211230T192040Z
LAST-MODIFIED:20211230T192040Z
UID:8964-1642109400-1642113000@organizersincanada.com
SUMMARY:Basic Office Organizing (E-107)
DESCRIPTION:
URL:https://organizersincanada.com/event/basic-office-organizing-e-107-9/
CATEGORIES:TPO Credit courses
END:VEVENT
BEGIN:VEVENT
DTSTART;TZID=America/Toronto:20220113T200000
DTEND;TZID=America/Toronto:20220113T210000
DTSTAMP:20260425T084737
CREATED:20211230T190347Z
LAST-MODIFIED:20211230T190347Z
UID:8961-1642104000-1642107600@organizersincanada.com
SUMMARY:Basic Residential Organizing (E-104)
DESCRIPTION:
URL:https://organizersincanada.com/event/basic-residential-organizing-e-104-10/
CATEGORIES:TPO Credit courses
END:VEVENT
BEGIN:VEVENT
DTSTART;TZID=America/Toronto:20220112T213000
DTEND;TZID=America/Toronto:20220112T223000
DTSTAMP:20260425T084737
CREATED:20211230T185721Z
LAST-MODIFIED:20211230T185721Z
UID:8958-1642023000-1642026600@organizersincanada.com
SUMMARY:Introduction to Professional Organizing and POC Code of Ethics (E-101)
DESCRIPTION:
URL:https://organizersincanada.com/event/introduction-to-professional-organizing-and-poc-code-of-ethics-e-101-15/
CATEGORIES:TPO Credit courses
END:VEVENT
END:VCALENDAR